Package: DMRScan Version: 1.29.0 Command: /Library/Frameworks/R.framework/Resources/bin/R CMD INSTALL DMRScan StartedAt: 2025-02-09 15:04:09 -0500 (Sun, 09 Feb 2025) EndedAt: 2025-02-09 15:04:14 -0500 (Sun, 09 Feb 2025) EllapsedTime: 5.7 seconds RetCode: 0 Status: OK