Package: DMRScan Version: 1.29.0 Command: /home/biocbuild/R/R/bin/R CMD check --install=check:DMRScan.install-out.txt --library=/home/biocbuild/R/R/site-library --no-vignettes --timings DMRScan_1.29.0.tar.gz StartedAt: 2025-01-28 10:03:36 -0000 (Tue, 28 Jan 2025) EndedAt: 2025-01-28 10:11:31 -0000 (Tue, 28 Jan 2025) EllapsedTime: 474.5 seconds RetCode: 0 Status: OK CheckDir: DMRScan.Rcheck Warnings: 0