Package: DMRScan Version: 1.29.0 Command: /Library/Frameworks/R.framework/Resources/bin/R CMD INSTALL DMRScan StartedAt: 2025-02-12 15:09:21 -0500 (Wed, 12 Feb 2025) EndedAt: 2025-02-12 15:09:44 -0500 (Wed, 12 Feb 2025) EllapsedTime: 22.6 seconds RetCode: 0 Status: OK