Package: DMRScan Version: 1.29.0 Command: /home/biocbuild/bbs-3.21-bioc/R/bin/R CMD check --install=check:DMRScan.install-out.txt --library=/home/biocbuild/bbs-3.21-bioc/R/site-library --timings DMRScan_1.29.0.tar.gz StartedAt: 2025-02-09 21:51:51 -0500 (Sun, 09 Feb 2025) EndedAt: 2025-02-09 21:58:44 -0500 (Sun, 09 Feb 2025) EllapsedTime: 413.4 seconds RetCode: 0 Status: OK CheckDir: DMRScan.Rcheck Warnings: 0