Package: DMRScan Version: 1.29.0 Command: /home/biocbuild/bbs-3.21-bioc/R/bin/R CMD INSTALL DMRScan StartedAt: 2025-02-09 15:23:18 -0500 (Sun, 09 Feb 2025) EndedAt: 2025-02-09 15:23:32 -0500 (Sun, 09 Feb 2025) EllapsedTime: 14.2 seconds RetCode: 0 Status: OK