Package: DMRScan Version: 1.29.0 Command: rm -rf DMRScan.buildbin-libdir && mkdir DMRScan.buildbin-libdir && E:\biocbuild\bbs-3.21-bioc\R\bin\R.exe CMD INSTALL --build --library=DMRScan.buildbin-libdir DMRScan_1.29.0.tar.gz StartedAt: 2025-02-10 07:38:45 -0500 (Mon, 10 Feb 2025) EndedAt: 2025-02-10 07:39:10 -0500 (Mon, 10 Feb 2025) EllapsedTime: 24.6 seconds RetCode: 0 Status: OK PackageFile: DMRScan_1.29.0.zip PackageFileSize: 5.08 MiB