Package: DMRScan Version: 1.29.0 Command: chmod a+r DMRScan -R && E:\biocbuild\bbs-3.21-bioc\R\bin\R.exe CMD build --keep-empty-dirs --no-resave-data DMRScan StartedAt: 2025-02-09 18:25:05 -0500 (Sun, 09 Feb 2025) EndedAt: 2025-02-09 18:26:51 -0500 (Sun, 09 Feb 2025) EllapsedTime: 106.2 seconds RetCode: 0 Status: OK PackageFile: DMRScan_1.29.0.tar.gz PackageFileSize: 3.347 MiB