Package: DMRScan Version: 1.29.0 Command: E:\biocbuild\bbs-3.21-bioc\R\bin\R.exe CMD INSTALL DMRScan StartedAt: 2025-02-09 15:38:15 -0500 (Sun, 09 Feb 2025) EndedAt: 2025-02-09 15:38:39 -0500 (Sun, 09 Feb 2025) EllapsedTime: 23.3 seconds RetCode: 0 Status: OK