Package: DNABarcodes Version: 1.37.0 Command: rm -rf DNABarcodes.buildbin-libdir && mkdir DNABarcodes.buildbin-libdir && /Users/biocbuild/BBS/utils/build-universal.sh DNABarcodes_1.37.0.tar.gz /Library/Frameworks/R.framework/Resources/bin/R DNABarcodes.buildbin-libdir StartedAt: 2025-02-03 22:48:33 -0500 (Mon, 03 Feb 2025) EndedAt: 2025-02-03 22:48:55 -0500 (Mon, 03 Feb 2025) EllapsedTime: 22.5 seconds RetCode: 0 Status: OK PackageFile: DNABarcodes_1.37.0.tgz PackageFileSize: 480.2 KiB