Package: DNABarcodes Version: 1.37.0 Command: /home/biocbuild/R/R/bin/R CMD build --keep-empty-dirs --no-resave-data DNABarcodes StartedAt: 2025-01-28 22:33:01 -0000 (Tue, 28 Jan 2025) EndedAt: 2025-01-28 22:34:55 -0000 (Tue, 28 Jan 2025) EllapsedTime: 114.0 seconds RetCode: 0 Status: OK PackageFile: DNABarcodes_1.37.0.tar.gz PackageFileSize: 371.9 KiB