Package: DNABarcodes Version: 1.37.0 Command: /home/biocbuild/R/R/bin/R CMD check --install=check:DNABarcodes.install-out.txt --library=/home/biocbuild/R/R/site-library --no-vignettes --timings DNABarcodes_1.37.0.tar.gz StartedAt: 2025-01-28 10:05:23 -0000 (Tue, 28 Jan 2025) EndedAt: 2025-01-28 10:06:17 -0000 (Tue, 28 Jan 2025) EllapsedTime: 53.1 seconds RetCode: 0 Status: OK CheckDir: DNABarcodes.Rcheck Warnings: 0