Package: DNABarcodes Version: 1.37.0 Command: /home/biocbuild/R/R/bin/R CMD INSTALL DNABarcodes StartedAt: 2025-01-29 20:14:56 -0000 (Wed, 29 Jan 2025) EndedAt: 2025-01-29 20:16:42 -0000 (Wed, 29 Jan 2025) EllapsedTime: 106.7 seconds RetCode: 0 Status: OK