Package: DNABarcodes Version: 1.37.0 Command: rm -rf DNABarcodes.buildbin-libdir && mkdir DNABarcodes.buildbin-libdir && /Users/biocbuild/BBS/utils/build-universal.sh DNABarcodes_1.37.0.tar.gz /Library/Frameworks/R.framework/Resources/bin/R DNABarcodes.buildbin-libdir StartedAt: 2025-02-10 00:51:10 -0500 (Mon, 10 Feb 2025) EndedAt: 2025-02-10 00:52:28 -0500 (Mon, 10 Feb 2025) EllapsedTime: 78.6 seconds RetCode: 0 Status: OK PackageFile: DNABarcodes_1.37.0.tgz PackageFileSize: 485.5 KiB