Package: DNABarcodes Version: 1.37.0 Command: /Library/Frameworks/R.framework/Resources/bin/R CMD INSTALL DNABarcodes StartedAt: 2025-02-03 15:35:39 -0500 (Mon, 03 Feb 2025) EndedAt: 2025-02-03 15:36:52 -0500 (Mon, 03 Feb 2025) EllapsedTime: 73.3 seconds RetCode: 0 Status: OK