Package: DNABarcodes Version: 1.37.0 Command: /home/biocbuild/bbs-3.21-bioc/R/bin/R CMD check --install=check:DNABarcodes.install-out.txt --library=/home/biocbuild/bbs-3.21-bioc/R/site-library --timings DNABarcodes_1.37.0.tar.gz StartedAt: 2025-02-09 21:53:25 -0500 (Sun, 09 Feb 2025) EndedAt: 2025-02-09 21:54:19 -0500 (Sun, 09 Feb 2025) EllapsedTime: 54.1 seconds RetCode: 0 Status: OK CheckDir: DNABarcodes.Rcheck Warnings: 0