Package: DNABarcodes Version: 1.37.0 Command: /home/biocbuild/bbs-3.21-bioc/R/bin/R CMD INSTALL DNABarcodes StartedAt: 2025-02-03 15:14:36 -0500 (Mon, 03 Feb 2025) EndedAt: 2025-02-03 15:15:51 -0500 (Mon, 03 Feb 2025) EllapsedTime: 75.2 seconds RetCode: 0 Status: OK