Package: DNABarcodes Version: 1.37.0 Command: chmod a+r DNABarcodes -R && E:\biocbuild\bbs-3.21-bioc\R\bin\R.exe CMD build --keep-empty-dirs --no-resave-data DNABarcodes StartedAt: 2025-02-03 18:37:42 -0500 (Mon, 03 Feb 2025) EndedAt: 2025-02-03 18:39:39 -0500 (Mon, 03 Feb 2025) EllapsedTime: 116.6 seconds RetCode: 0 Status: OK PackageFile: DNABarcodes_1.37.0.tar.gz PackageFileSize: 348.1 KiB