Package: DNABarcodes Version: 1.37.0 Command: E:\biocbuild\bbs-3.21-bioc\R\bin\R.exe CMD check --no-multiarch --install=check:DNABarcodes.install-out.txt --library=E:\biocbuild\bbs-3.21-bioc\R\library --no-vignettes --timings DNABarcodes_1.37.0.tar.gz StartedAt: 2025-02-10 00:36:53 -0500 (Mon, 10 Feb 2025) EndedAt: 2025-02-10 00:38:12 -0500 (Mon, 10 Feb 2025) EllapsedTime: 78.8 seconds RetCode: 0 Status: OK CheckDir: DNABarcodes.Rcheck Warnings: 0