Package: DNABarcodes Version: 1.37.0 Command: E:\biocbuild\bbs-3.21-bioc\R\bin\R.exe CMD INSTALL DNABarcodes StartedAt: 2025-02-03 16:07:30 -0500 (Mon, 03 Feb 2025) EndedAt: 2025-02-03 16:09:08 -0500 (Mon, 03 Feb 2025) EllapsedTime: 98.3 seconds RetCode: 0 Status: OK