Package: DNAcopy Version: 1.81.0 Command: rm -rf DNAcopy.buildbin-libdir && mkdir DNAcopy.buildbin-libdir && /Users/biocbuild/BBS/utils/build-universal.sh DNAcopy_1.81.0.tar.gz /Library/Frameworks/R.framework/Resources/bin/R DNAcopy.buildbin-libdir StartedAt: 2025-02-03 22:48:35 -0500 (Mon, 03 Feb 2025) EndedAt: 2025-02-03 22:48:40 -0500 (Mon, 03 Feb 2025) EllapsedTime: 5.1 seconds RetCode: 0 Status: OK PackageFile: DNAcopy_1.81.0.tgz PackageFileSize: 500 KiB