Package: DNAcopy Version: 1.81.0 Command: /Library/Frameworks/R.framework/Resources/bin/R CMD build --keep-empty-dirs --no-resave-data DNAcopy StartedAt: 2025-02-09 16:10:18 -0500 (Sun, 09 Feb 2025) EndedAt: 2025-02-09 16:10:25 -0500 (Sun, 09 Feb 2025) EllapsedTime: 7.1 seconds RetCode: 0 Status: OK PackageFile: DNAcopy_1.81.0.tar.gz PackageFileSize: 405 KiB