Package: DNAcopy Version: 1.81.0 Command: /home/biocbuild/R/R/bin/R CMD build --keep-empty-dirs --no-resave-data DNAcopy StartedAt: 2025-01-28 22:33:03 -0000 (Tue, 28 Jan 2025) EndedAt: 2025-01-28 22:33:14 -0000 (Tue, 28 Jan 2025) EllapsedTime: 11.0 seconds RetCode: 0 Status: OK PackageFile: DNAcopy_1.81.0.tar.gz PackageFileSize: 412.6 KiB