Package: DNAcopy Version: 1.81.0 Command: /Library/Frameworks/R.framework/Resources/bin/R CMD build --keep-empty-dirs --no-resave-data DNAcopy StartedAt: 2025-02-09 16:36:27 -0500 (Sun, 09 Feb 2025) EndedAt: 2025-02-09 16:36:47 -0500 (Sun, 09 Feb 2025) EllapsedTime: 20.6 seconds RetCode: 0 Status: OK PackageFile: DNAcopy_1.81.0.tar.gz PackageFileSize: 404.3 KiB