Package: DNAcopy Version: 1.81.0 Command: /home/biocbuild/bbs-3.21-bioc/R/bin/R CMD build --keep-empty-dirs --no-resave-data DNAcopy StartedAt: 2025-02-03 17:12:13 -0500 (Mon, 03 Feb 2025) EndedAt: 2025-02-03 17:12:23 -0500 (Mon, 03 Feb 2025) EllapsedTime: 10.0 seconds RetCode: 0 Status: OK PackageFile: DNAcopy_1.81.0.tar.gz PackageFileSize: 405 KiB