Package: DNAcopy Version: 1.81.0 Command: chmod a+r DNAcopy -R && E:\biocbuild\bbs-3.21-bioc\R\bin\R.exe CMD build --keep-empty-dirs --no-resave-data DNAcopy StartedAt: 2025-02-03 18:38:02 -0500 (Mon, 03 Feb 2025) EndedAt: 2025-02-03 18:38:26 -0500 (Mon, 03 Feb 2025) EllapsedTime: 23.8 seconds RetCode: 0 Status: OK PackageFile: DNAcopy_1.81.0.tar.gz PackageFileSize: 291.9 KiB