Package: DNAcopy Version: 1.81.0 Command: E:\biocbuild\bbs-3.21-bioc\R\bin\R.exe CMD INSTALL DNAcopy StartedAt: 2025-02-03 15:31:01 -0500 (Mon, 03 Feb 2025) EndedAt: 2025-02-03 15:31:34 -0500 (Mon, 03 Feb 2025) EllapsedTime: 32.8 seconds RetCode: 0 Status: OK