Package: DNAfusion Version: 1.9.0 Command: rm -rf DNAfusion.buildbin-libdir && mkdir DNAfusion.buildbin-libdir && /Users/biocbuild/BBS/utils/build-universal.sh DNAfusion_1.9.0.tar.gz /Library/Frameworks/R.framework/Resources/bin/R DNAfusion.buildbin-libdir StartedAt: 2025-02-09 22:12:44 -0500 (Sun, 09 Feb 2025) EndedAt: 2025-02-09 22:12:59 -0500 (Sun, 09 Feb 2025) EllapsedTime: 15.3 seconds RetCode: 0 Status: OK PackageFile: DNAfusion_1.9.0.tgz PackageFileSize: 6.317 MiB