Package: DNAfusion Version: 1.9.0 Command: /Library/Frameworks/R.framework/Resources/bin/R CMD build --keep-empty-dirs --no-resave-data DNAfusion StartedAt: 2025-02-12 16:11:10 -0500 (Wed, 12 Feb 2025) EndedAt: 2025-02-12 16:12:24 -0500 (Wed, 12 Feb 2025) EllapsedTime: 73.9 seconds RetCode: 0 Status: OK PackageFile: DNAfusion_1.9.0.tar.gz PackageFileSize: 6.298 MiB