Package: DNAfusion Version: 1.9.0 Command: /Library/Frameworks/R.framework/Resources/bin/R CMD check --install=check:DNAfusion.install-out.txt --library=/Library/Frameworks/R.framework/Resources/library --no-vignettes --timings DNAfusion_1.9.0.tar.gz StartedAt: 2025-02-09 19:00:33 -0500 (Sun, 09 Feb 2025) EndedAt: 2025-02-09 19:04:03 -0500 (Sun, 09 Feb 2025) EllapsedTime: 209.5 seconds RetCode: 0 Status: OK CheckDir: DNAfusion.Rcheck Warnings: 0