Package: DNAfusion Version: 1.9.0 Command: /Library/Frameworks/R.framework/Resources/bin/R CMD check --install=check:DNAfusion.install-out.txt --library=/Library/Frameworks/R.framework/Resources/library --no-vignettes --timings DNAfusion_1.9.0.tar.gz StartedAt: 2025-02-04 20:11:28 -0500 (Tue, 04 Feb 2025) EndedAt: 2025-02-04 20:21:08 -0500 (Tue, 04 Feb 2025) EllapsedTime: 580.1 seconds RetCode: 0 Status: OK CheckDir: DNAfusion.Rcheck Warnings: 0