Package: DNAfusion Version: 1.9.0 Command: /home/biocbuild/bbs-3.21-bioc/R/bin/R CMD build --keep-empty-dirs --no-resave-data DNAfusion StartedAt: 2025-02-09 17:03:38 -0500 (Sun, 09 Feb 2025) EndedAt: 2025-02-09 17:06:18 -0500 (Sun, 09 Feb 2025) EllapsedTime: 160.2 seconds RetCode: 0 Status: OK PackageFile: DNAfusion_1.9.0.tar.gz PackageFileSize: 6.298 MiB