Package: DNAfusion Version: 1.9.0 Command: /home/biocbuild/bbs-3.21-bioc/R/bin/R CMD check --install=check:DNAfusion.install-out.txt --library=/home/biocbuild/bbs-3.21-bioc/R/site-library --timings DNAfusion_1.9.0.tar.gz StartedAt: 2025-02-09 21:53:42 -0500 (Sun, 09 Feb 2025) EndedAt: 2025-02-09 22:03:56 -0500 (Sun, 09 Feb 2025) EllapsedTime: 613.8 seconds RetCode: 0 Status: OK CheckDir: DNAfusion.Rcheck Warnings: 0