Package: DNAfusion Version: 1.9.0 Command: /home/biocbuild/bbs-3.21-bioc/R/bin/R CMD INSTALL DNAfusion StartedAt: 2025-02-04 15:42:26 -0500 (Tue, 04 Feb 2025) EndedAt: 2025-02-04 15:43:00 -0500 (Tue, 04 Feb 2025) EllapsedTime: 33.9 seconds RetCode: 0 Status: OK