Package: DNAfusion Version: 1.9.0 Command: rm -rf DNAfusion.buildbin-libdir && mkdir DNAfusion.buildbin-libdir && E:\biocbuild\bbs-3.21-bioc\R\bin\R.exe CMD INSTALL --build --library=DNAfusion.buildbin-libdir DNAfusion_1.9.0.tar.gz StartedAt: 2025-02-10 07:39:04 -0500 (Mon, 10 Feb 2025) EndedAt: 2025-02-10 07:39:43 -0500 (Mon, 10 Feb 2025) EllapsedTime: 39.0 seconds RetCode: 0 Status: OK PackageFile: DNAfusion_1.9.0.zip PackageFileSize: 6.317 MiB