Package: DNAfusion Version: 1.9.0 Command: chmod a+r DNAfusion -R && E:\biocbuild\bbs-3.21-bioc\R\bin\R.exe CMD build --keep-empty-dirs --no-resave-data DNAfusion StartedAt: 2025-02-04 18:27:07 -0500 (Tue, 04 Feb 2025) EndedAt: 2025-02-04 18:30:36 -0500 (Tue, 04 Feb 2025) EllapsedTime: 209.6 seconds RetCode: 0 Status: OK PackageFile: DNAfusion_1.9.0.tar.gz PackageFileSize: 6.298 MiB