Package: DNAfusion Version: 1.9.0 Command: E:\biocbuild\bbs-3.21-bioc\R\bin\R.exe CMD INSTALL DNAfusion StartedAt: 2025-02-04 16:12:20 -0500 (Tue, 04 Feb 2025) EndedAt: 2025-02-04 16:13:05 -0500 (Tue, 04 Feb 2025) EllapsedTime: 45.2 seconds RetCode: 0 Status: OK