Package: DNAshapeR Version: 1.35.0 Command: rm -rf DNAshapeR.buildbin-libdir && mkdir DNAshapeR.buildbin-libdir && /Users/biocbuild/BBS/utils/build-universal.sh DNAshapeR_1.35.0.tar.gz /Library/Frameworks/R.framework/Resources/bin/R DNAshapeR.buildbin-libdir StartedAt: 2025-02-09 22:12:45 -0500 (Sun, 09 Feb 2025) EndedAt: 2025-02-09 22:13:00 -0500 (Sun, 09 Feb 2025) EllapsedTime: 15.3 seconds RetCode: 0 Status: OK PackageFile: DNAshapeR_1.35.0.tgz PackageFileSize: 1.296 MiB