Package: DNAshapeR Version: 1.35.0 Command: /Library/Frameworks/R.framework/Resources/bin/R CMD check --install=check:DNAshapeR.install-out.txt --library=/Library/Frameworks/R.framework/Resources/library --no-vignettes --timings DNAshapeR_1.35.0.tar.gz StartedAt: 2025-02-12 19:04:09 -0500 (Wed, 12 Feb 2025) EndedAt: 2025-02-12 19:05:05 -0500 (Wed, 12 Feb 2025) EllapsedTime: 56.7 seconds RetCode: 0 Status: OK CheckDir: DNAshapeR.Rcheck Warnings: 0