Package: DNAshapeR Version: 1.35.0 Command: /Library/Frameworks/R.framework/Resources/bin/R CMD INSTALL DNAshapeR StartedAt: 2025-02-09 15:05:34 -0500 (Sun, 09 Feb 2025) EndedAt: 2025-02-09 15:05:46 -0500 (Sun, 09 Feb 2025) EllapsedTime: 12.3 seconds RetCode: 0 Status: OK