Package: DNAshapeR Version: 1.35.0 Command: /Library/Frameworks/R.framework/Resources/bin/R CMD build --keep-empty-dirs --no-resave-data DNAshapeR StartedAt: 2025-02-12 16:34:28 -0500 (Wed, 12 Feb 2025) EndedAt: 2025-02-12 16:35:40 -0500 (Wed, 12 Feb 2025) EllapsedTime: 71.9 seconds RetCode: 0 Status: OK PackageFile: DNAshapeR_1.35.0.tar.gz PackageFileSize: 1.138 MiB