Package: DNAshapeR Version: 1.35.0 Command: /Library/Frameworks/R.framework/Resources/bin/R CMD check --install=check:DNAshapeR.install-out.txt --library=/Library/Frameworks/R.framework/Resources/library --no-vignettes --timings DNAshapeR_1.35.0.tar.gz StartedAt: 2025-02-09 20:23:54 -0500 (Sun, 09 Feb 2025) EndedAt: 2025-02-09 20:26:45 -0500 (Sun, 09 Feb 2025) EllapsedTime: 171.4 seconds RetCode: 0 Status: OK CheckDir: DNAshapeR.Rcheck Warnings: 0