Package: DRIMSeq Version: 1.35.0 Maintainer: Malgorzata Nowicka MaintainerEmail: gosia.nowicka.uzh at gmail.com git_url: https://git.bioconductor.org/packages/DRIMSeq git_branch: devel git_last_commit: bffc717 git_last_commit_date: 2024-10-29 10:08:39 -0500 (Tue, 29 Oct 2024)