Package: DRIMSeq Version: 1.35.0 Command: rm -rf DRIMSeq.buildbin-libdir && mkdir DRIMSeq.buildbin-libdir && /Users/biocbuild/BBS/utils/build-universal.sh DRIMSeq_1.35.0.tar.gz /Library/Frameworks/R.framework/Resources/bin/R DRIMSeq.buildbin-libdir StartedAt: 2025-02-03 22:48:47 -0500 (Mon, 03 Feb 2025) EndedAt: 2025-02-03 22:48:53 -0500 (Mon, 03 Feb 2025) EllapsedTime: 6.2 seconds RetCode: 0 Status: OK PackageFile: DRIMSeq_1.35.0.tgz PackageFileSize: 786.2 KiB