Package: DRIMSeq Version: 1.35.0 Command: /Library/Frameworks/R.framework/Resources/bin/R CMD build --keep-empty-dirs --no-resave-data DRIMSeq StartedAt: 2025-02-09 16:11:03 -0500 (Sun, 09 Feb 2025) EndedAt: 2025-02-09 16:11:56 -0500 (Sun, 09 Feb 2025) EllapsedTime: 52.5 seconds RetCode: 0 Status: OK PackageFile: DRIMSeq_1.35.0.tar.gz PackageFileSize: 481.6 KiB