Package: DRIMSeq Version: 1.35.0 Command: /Library/Frameworks/R.framework/Resources/bin/R CMD check --install=check:DRIMSeq.install-out.txt --library=/Library/Frameworks/R.framework/Resources/library --no-vignettes --timings DRIMSeq_1.35.0.tar.gz StartedAt: 2025-02-03 20:15:48 -0500 (Mon, 03 Feb 2025) EndedAt: 2025-02-03 20:19:32 -0500 (Mon, 03 Feb 2025) EllapsedTime: 223.9 seconds RetCode: 0 Status: WARNINGS CheckDir: DRIMSeq.Rcheck Warnings: 1