Package: DRIMSeq Version: 1.35.0 Command: /home/biocbuild/bbs-3.21-bioc/R/bin/R CMD build --keep-empty-dirs --no-resave-data DRIMSeq StartedAt: 2025-02-09 17:04:23 -0500 (Sun, 09 Feb 2025) EndedAt: 2025-02-09 17:06:42 -0500 (Sun, 09 Feb 2025) EllapsedTime: 139.2 seconds RetCode: 0 Status: OK PackageFile: DRIMSeq_1.35.0.tar.gz PackageFileSize: 481.6 KiB