Package: DRIMSeq Version: 1.35.0 Command: /home/biocbuild/bbs-3.21-bioc/R/bin/R CMD INSTALL DRIMSeq StartedAt: 2025-02-03 15:41:19 -0500 (Mon, 03 Feb 2025) EndedAt: 2025-02-03 15:41:32 -0500 (Mon, 03 Feb 2025) EllapsedTime: 12.7 seconds RetCode: 0 Status: OK