Package: DRIMSeq Version: 1.35.0 Command: rm -rf DRIMSeq.buildbin-libdir && mkdir DRIMSeq.buildbin-libdir && E:\biocbuild\bbs-3.21-bioc\R\bin\R.exe CMD INSTALL --build --library=DRIMSeq.buildbin-libdir DRIMSeq_1.35.0.tar.gz StartedAt: 2025-02-04 07:53:22 -0500 (Tue, 04 Feb 2025) EndedAt: 2025-02-04 07:54:01 -0500 (Tue, 04 Feb 2025) EllapsedTime: 39.6 seconds RetCode: 0 Status: OK PackageFile: DRIMSeq_1.35.0.zip PackageFileSize: 787.6 KiB