Package: DRIMSeq Version: 1.35.0 Command: chmod a+r DRIMSeq -R && E:\biocbuild\bbs-3.21-bioc\R\bin\R.exe CMD build --keep-empty-dirs --no-resave-data DRIMSeq StartedAt: 2025-02-09 18:27:44 -0500 (Sun, 09 Feb 2025) EndedAt: 2025-02-09 18:31:12 -0500 (Sun, 09 Feb 2025) EllapsedTime: 208.0 seconds RetCode: 0 Status: OK PackageFile: DRIMSeq_1.35.0.tar.gz PackageFileSize: 484.2 KiB