Package: DRIMSeq Version: 1.35.0 Command: E:\biocbuild\bbs-3.21-bioc\R\bin\R.exe CMD check --no-multiarch --install=check:DRIMSeq.install-out.txt --library=E:\biocbuild\bbs-3.21-bioc\R\library --no-vignettes --timings DRIMSeq_1.35.0.tar.gz StartedAt: 2025-02-04 01:07:21 -0500 (Tue, 04 Feb 2025) EndedAt: 2025-02-04 01:11:32 -0500 (Tue, 04 Feb 2025) EllapsedTime: 251.2 seconds RetCode: 0 Status: WARNINGS CheckDir: DRIMSeq.Rcheck Warnings: 1